BEGIN:VCALENDAR
VERSION:2.0
PRODID:-//goldener dachs - ECPv6.8.1//NONSGML v1.0//EN
CALSCALE:GREGORIAN
METHOD:PUBLISH
X-WR-CALNAME:goldener dachs
X-ORIGINAL-URL:https://goldenerdachs.ch
X-WR-CALDESC:Veranstaltungen für goldener dachs
REFRESH-INTERVAL;VALUE=DURATION:PT1H
X-Robots-Tag:noindex
X-PUBLISHED-TTL:PT1H
BEGIN:VTIMEZONE
TZID:UTC
BEGIN:STANDARD
TZOFFSETFROM:+0000
TZOFFSETTO:+0000
TZNAME:UTC
DTSTART:20260101T000000
END:STANDARD
END:VTIMEZONE
BEGIN:VEVENT
DTSTART;TZID=UTC:20260424T201500
DTEND;TZID=UTC:20260424T223000
DTSTAMP:20260423T103015
CREATED:20251126T090959Z
LAST-MODIFIED:20251212T151333Z
UID:1203-1777061700-1777069800@goldenerdachs.ch
SUMMARY:Bonissimo Quiz
DESCRIPTION:Die Rateshow von und mit  Boni Koller & Elena Mpintsis \nMit „Benissimo“\, der beliebten TV-Sendung aus der noch beliebteren „guten alten Zeit“\, hat Bonissimo nicht viel zu tun. \nDoch es gibt Parallelen: Die Show leiht sich ihren Namen von dem des Moderators. Es gibt live gesungene Musiknummern. Der Moderator spricht gerne italienisch\, aber nicht gut. \n…und Unterschiede: Dem Moderator steht keine Glücksfee\, sondern eine gleichberechtigte Ko-Moderatorin zur Seite. Es gibt keine Million zu gewinnen\, deshalb darf die Show weder langweilig sein noch drei Stunden dauern. Es geht nicht um Geld\, sondern um unser kulturelles Schwarmgedächtnis. \nBoni Koller und Elena Mpintsis singen\, zitieren und tanzen Kunstwerke aus verschiedenen Stilrichtungen und Epochen. Das Publikum darf sich zurücklehnen und staunen\, aber sich auch einbringen und Lösungsvorschläge beisteuern.
URL:https://goldenerdachs.ch/index.php/event/cork-5-jazzkonzert/
LOCATION:Goldener Dachs\, Schulstrasse 1\, Weinfelden\, Thurgau\, 8570\, Schweiz
ORGANIZER;CN="8570 Jazzclub":MAILTO:info@8570jazzclub.ch
END:VEVENT
BEGIN:VEVENT
DTSTART;TZID=UTC:20260425T100000
DTEND;TZID=UTC:20260425T104000
DTSTAMP:20260423T103015
CREATED:20251126T102354Z
LAST-MODIFIED:20251126T102606Z
UID:1231-1777111200-1777113600@goldenerdachs.ch
SUMMARY:Krabbelkonzert um 10 Uhr
DESCRIPTION:Ein kurzes Konzert für Eltern mit ihren Kindern ab 0 Jahren\, die bei der Musik krabbeln\, tanzen und spielen dürfen.
URL:https://goldenerdachs.ch/index.php/event/krabbelkonzert-um-10-uhr-4/
LOCATION:Goldener Dachs\, Schulstrasse 1\, Weinfelden\, Thurgau\, 8570\, Schweiz
ORGANIZER;CN="Schweizerische Musikp%C3%A4dagogische Verband Thurgau":MAILTO:zentralsekretariat@smpv.ch
END:VEVENT
BEGIN:VEVENT
DTSTART;TZID=UTC:20260425T201500
DTEND;TZID=UTC:20260425T223000
DTSTAMP:20260423T103015
CREATED:20260410T055823Z
LAST-MODIFIED:20260410T055858Z
UID:1499-1777148100-1777156200@goldenerdachs.ch
SUMMARY:Ewig währt am längsten - Estermann und Rosenzweig
DESCRIPTION:Estermann & Rosenzweig beehren den Goldenen Dachs bereits zum zweiten Mal. In ihrem neuen Programm Ewig währt am längsten bringen sie neue und alte Lieder\, Texte und Gitarrenmusik\, Werbeeinlagen und Gastauftritte von längst Verstorbenen auf die Bühne. Ein Stück Gegenwart für die Ewigkeit.\nKlaus Estermanns Lieder und Texte und Fabian Rosenzweigs Gitarrenspiel harmonieren wunderbar und verbinden sich zu einem ernsthaft unterhaltsamen Programm mit leichtfüssigem Tiefgang.
URL:https://goldenerdachs.ch/index.php/event/ewig-waehrt-am-laengsten-estermann-und-rosenzweig/
LOCATION:Goldener Dachs\, Schulstrasse 1\, Weinfelden\, Thurgau\, 8570\, Schweiz
CATEGORIES:Konzert
ORGANIZER;CN="frohsinn kultur":MAILTO:kultur@frohsinn-weinfelden.ch
END:VEVENT
BEGIN:VEVENT
DTSTART;TZID=UTC:20260426T110000
DTEND;TZID=UTC:20260426T140000
DTSTAMP:20260423T103015
CREATED:20260410T060147Z
LAST-MODIFIED:20260410T060147Z
UID:1502-1777201200-1777212000@goldenerdachs.ch
SUMMARY:Versuch über das Warten
DESCRIPTION:Laboröffnung B: \nEin Versuch über das Warten. \nIst Warten Zeitverschwendung\, Lebenskunst oder Zumutung? \nFür eine Versuchsanordnung im Labor auf Zeit werden Freiwillige\, Probanden\, Laborratten und Versuchskaninchen gesucht\, die sich dem Phänomen des Wartens aussetzen und hingeben. \nDie Studie dient zu künstlerischen und wissenschaftlichen Zwecken. Alle Daten und Erfahrungswerte werden anonymisiert und vertraulich behandelt\, um später in ein neues Performance-Projekt eingebunden zu werden. \nAblauf der Studie:\nDie Teilnahme umfasst unübersichtliche Beobachtungsaufgaben\, multiplexe Experimente\, verzwickte fragebögen\, Instant-Tests und Impuls-Aktionen. Es braucht keine besonderen Vorkenntnisse. \nLaborteam:\nMicha Stuhlmann\nChristoph Luchsinger\nThomas Kessler
URL:https://goldenerdachs.ch/index.php/event/versuch-ueber-das-warten/
LOCATION:Goldener Dachs\, Schulstrasse 1\, Weinfelden\, Thurgau\, 8570\, Schweiz
ORGANIZER;CN="frohsinn kultur":MAILTO:kultur@frohsinn-weinfelden.ch
END:VEVENT
BEGIN:VEVENT
DTSTART;TZID=UTC:20260428T190000
DTEND;TZID=UTC:20260428T213000
DTSTAMP:20260423T103015
CREATED:20260410T060946Z
LAST-MODIFIED:20260410T060946Z
UID:1504-1777402800-1777411800@goldenerdachs.ch
SUMMARY:Neuerscheinungsabend mit Musik
DESCRIPTION:Aline\, Désirée und Katharina stellen ihre liebsten Neuerscheinungen des Frühjahrs vor!\nGenre: Belletristik für Erwachsene \nMusik: André Desponds \n12 Bücher – gute Drinks – leckere Häppchen – gemütliche Atmosphäre \nAnmeldung empfohlen: info@klappentext.li | 071 622 11 44 \n 
URL:https://goldenerdachs.ch/index.php/event/neuerscheinungsabend-mit-musik-2/
LOCATION:Goldener Dachs\, Schulstrasse 1\, Weinfelden\, Thurgau\, 8570\, Schweiz
ORGANIZER;CN="klappentext":MAILTO:info@klappentext.ch
END:VEVENT
BEGIN:VEVENT
DTSTART;TZID=UTC:20260430T190000
DTEND;TZID=UTC:20260430T230000
DTSTAMP:20260423T103015
CREATED:20260119T103558Z
LAST-MODIFIED:20260325T075319Z
UID:1326-1777575600-1777590000@goldenerdachs.ch
SUMMARY:DaxTanz Vol. 6 - mit DJ HartDISK
DESCRIPTION:Kommen\, tanzen\, glücklich sein! DJ HartDISK spielt Hits\, die Jung & Alt in positive Schwingung versetzen. Von Rock‘n‘Roll\, Pop\, Rock über Disco & Funk folgt eine goldene Schallplatte der nächsten. Let‘s dance\, let‘s groove\, let‘s move! \nTanz ab 19 Uhr\, Türen offen ab 17 Uhr \nEintritt ab 19 Uhr: CHF 10.- / Person
URL:https://goldenerdachs.ch/index.php/event/daxtanz-vol-6-mit-dj-hartdisk/
LOCATION:Goldener Dachs\, Schulstrasse 1\, Weinfelden\, Thurgau\, 8570\, Schweiz
CATEGORIES:Gesellschaft
ORGANIZER;CN="Goldener Dachs":MAILTO:info@goldenerdachs.ch
END:VEVENT
BEGIN:VEVENT
DTSTART;TZID=UTC:20260506T190000
DTEND;TZID=UTC:20260506T220000
DTSTAMP:20260423T103015
CREATED:20260410T061334Z
LAST-MODIFIED:20260410T061819Z
UID:1507-1778094000-1778104800@goldenerdachs.ch
SUMMARY:1. Weinfelder Parteien Pub-Quiz
DESCRIPTION:Anmeldung und Informationen unter politik@goldenerdachs.ch \nAb 19 Uhr werden Fragen beantwortet. \nEs wir mit dem eigenen Handy gespielt.
URL:https://goldenerdachs.ch/index.php/event/1-weinfelder-parteien-pub-quiz/
LOCATION:Goldener Dachs\, Schulstrasse 1\, Weinfelden\, Thurgau\, 8570\, Schweiz
ORGANIZER;CN="Sozialdemokratische Partei Weinfelden":MAILTO:info@spweinfelden.ch
END:VEVENT
BEGIN:VEVENT
DTSTART;TZID=UTC:20260508T201500
DTEND;TZID=UTC:20260508T223000
DTSTAMP:20260423T103015
CREATED:20251126T091124Z
LAST-MODIFIED:20251126T091124Z
UID:1205-1778271300-1778279400@goldenerdachs.ch
SUMMARY:Niculin Janett - Jazzkonzert
DESCRIPTION:
URL:https://goldenerdachs.ch/index.php/event/niculin-janett-jazzkonzert/
LOCATION:Goldener Dachs\, Schulstrasse 1\, Weinfelden\, Thurgau\, 8570\, Schweiz
ORGANIZER;CN="8570 Jazzclub":MAILTO:info@8570jazzclub.ch
END:VEVENT
BEGIN:VEVENT
DTSTART;TZID=UTC:20260509T201500
DTEND;TZID=UTC:20260509T230000
DTSTAMP:20260423T103015
CREATED:20260119T102205Z
LAST-MODIFIED:20260122T085828Z
UID:1320-1778357700-1778367600@goldenerdachs.ch
SUMMARY:A Little Green - vier Legenden - ein Konzert
DESCRIPTION:Ticket hier. \nSeit über 25 Jahren steht die wohl erste Thurgauer Boygroup gemeinsam auf der Bühne. Unzählige Instrumente\, vier Freunde\, ein Herz. Was diese Musiker auf die Bühne zaubern\, ist an Stimmung und Spielfreude kaum mehr zu überbieten. Im Repertoire befinden sich vielseitig arrangierte Irish Tunes\, süditalienische Canzoni und bretonische Chansons. Alles mit einem Charme präsentiert\, dass man nicht genug bekommen kann. Mitreissende Musik\, die unter die Haut geht und einen spüren lässt\, was das Leben alles zu bieten hat.
URL:https://goldenerdachs.ch/index.php/event/little-green-vier-legenden-ein-konzert/
LOCATION:Goldener Dachs\, Schulstrasse 1\, Weinfelden\, Thurgau\, 8570\, Schweiz
ORGANIZER;CN="frohsinn kultur":MAILTO:kultur@frohsinn-weinfelden.ch
END:VEVENT
BEGIN:VEVENT
DTSTART;TZID=UTC:20260510T160000
DTEND;TZID=UTC:20260510T220000
DTSTAMP:20260423T103015
CREATED:20260410T062217Z
LAST-MODIFIED:20260410T123756Z
UID:1510-1778428800-1778450400@goldenerdachs.ch
SUMMARY:Gion Stump - Ferrytales Tour 2026
DESCRIPTION:Der Ostschweizer Singer-Songwriter Gion Stump auf seiner Ferrytales Tour  macht Halt in  Weinfelden. Mit Gitarre und Stimme entführt er sein Publikum in atmosphärische Klangwelten zwischen Rock\, Pop und poetischem Songwriting\, inspiriert von Geschichten auf hoher See und den Flüssen Europas. \nFreut Euch auf einen intensiven Konzertabend mit gefühlvollen Melodien\, starken Texten und einer besonderen Live-Atmosphäre. \nReservation:  info@moments-event.ch \nTüröffnung:     16.00 Uhr\nKonzert:            17.00Uhr \nEintritt:              frei – Kollekte
URL:https://goldenerdachs.ch/index.php/event/gion-stump-ferrytales-tour-2026/
LOCATION:Goldener Dachs\, Schulstrasse 1\, Weinfelden\, Thurgau\, 8570\, Schweiz
ORGANIZER;CN="Moments Events":MAILTO: info@moments-event.ch
END:VEVENT
BEGIN:VEVENT
DTSTART;TZID=UTC:20260519T183000
DTEND;TZID=UTC:20260519T210000
DTSTAMP:20260423T103016
CREATED:20251126T104753Z
LAST-MODIFIED:20251126T104753Z
UID:1248-1779215400-1779224400@goldenerdachs.ch
SUMMARY:Ukulele-Stammtisch um 18:30 Uhr
DESCRIPTION:Jeden Monat findet der Ukulele-Stammtisch im goldenen Dachs statt. Hier erwartet die Teilnehmenden ein geselliges Beisammensein\, das von fröhlicher Musik und anregenden Gesprächen geprägt ist.
URL:https://goldenerdachs.ch/index.php/event/ukulele-stammtisch-um-1830-uhr-5/
LOCATION:Goldener Dachs\, Schulstrasse 1\, Weinfelden\, Thurgau\, 8570\, Schweiz
ORGANIZER;CN="Musikschule Weinfelden":MAILTO:msw@musikalis.ch
END:VEVENT
BEGIN:VEVENT
DTSTART;TZID=UTC:20260529T180000
DTEND;TZID=UTC:20260529T200000
DTSTAMP:20260423T103016
CREATED:20260410T125720Z
LAST-MODIFIED:20260410T135734Z
UID:1516-1780077600-1780084800@goldenerdachs.ch
SUMMARY:Talento in Concerto
DESCRIPTION:Eintritt frei\, Kollekte
URL:https://goldenerdachs.ch/index.php/event/talento-in-concerto/
LOCATION:Goldener Dachs\, Schulstrasse 1\, Weinfelden\, Thurgau\, 8570\, Schweiz
ORGANIZER;CN="Musikschule Weinfelden":MAILTO:msw@musikalis.ch
END:VEVENT
BEGIN:VEVENT
DTSTART;TZID=UTC:20260530T201500
DTEND;TZID=UTC:20260530T223000
DTSTAMP:20260423T103016
CREATED:20251126T091431Z
LAST-MODIFIED:20251126T093142Z
UID:1207-1780172100-1780180200@goldenerdachs.ch
SUMMARY:SOFIA - Jazzkonzert
DESCRIPTION:
URL:https://goldenerdachs.ch/index.php/event/sofia-jazzkonzert/
LOCATION:Thurgau
END:VEVENT
BEGIN:VEVENT
DTSTART;TZID=UTC:20260530T201500
DTEND;TZID=UTC:20260530T223000
DTSTAMP:20260423T103016
CREATED:20260410T140241Z
LAST-MODIFIED:20260410T140630Z
UID:1518-1780172100-1780180200@goldenerdachs.ch
SUMMARY:SOFIA – Abschlusskonzert
DESCRIPTION:SOFIA – Support Of Female Improvising Artists \nEin Projekt unter der Leitung von Nicole Johaenntgen. \n  \n 
URL:https://goldenerdachs.ch/index.php/event/sofia-abschlusskonzert/
LOCATION:Goldener Dachs\, Schulstrasse 1\, Weinfelden\, Thurgau\, 8570\, Schweiz
CATEGORIES:Konzert
ORGANIZER;CN="8570 Jazzclub":MAILTO:info@8570jazzclub.ch
END:VEVENT
BEGIN:VEVENT
DTSTART;TZID=UTC:20260605T201500
DTEND;TZID=UTC:20260605T223000
DTSTAMP:20260423T103016
CREATED:20251126T092639Z
LAST-MODIFIED:20251126T092639Z
UID:1212-1780690500-1780698600@goldenerdachs.ch
SUMMARY:Ray Anderson Trio - Jazzkonzert
DESCRIPTION:
URL:https://goldenerdachs.ch/index.php/event/ray-anderson-trio-jazzkonzert/
LOCATION:Goldener Dachs\, Schulstrasse 1\, Weinfelden\, Thurgau\, 8570\, Schweiz
ORGANIZER;CN="8570 Jazzclub":MAILTO:info@8570jazzclub.ch
END:VEVENT
BEGIN:VEVENT
DTSTART;TZID=UTC:20260616T183000
DTEND;TZID=UTC:20260616T210000
DTSTAMP:20260423T103016
CREATED:20251126T104848Z
LAST-MODIFIED:20251126T104848Z
UID:1250-1781634600-1781643600@goldenerdachs.ch
SUMMARY:Ukulele-Stammtisch um 18:30 Uhr
DESCRIPTION:Jeden Monat findet der Ukulele-Stammtisch im goldenen Dachs statt. Hier erwartet die Teilnehmenden ein geselliges Beisammensein\, das von fröhlicher Musik und anregenden Gesprächen geprägt ist.
URL:https://goldenerdachs.ch/index.php/event/ukulele-stammtisch-um-1830-uhr-6/
LOCATION:Goldener Dachs\, Schulstrasse 1\, Weinfelden\, Thurgau\, 8570\, Schweiz
ORGANIZER;CN="Musikschule Weinfelden":MAILTO:msw@musikalis.ch
END:VEVENT
BEGIN:VEVENT
DTSTART;TZID=UTC:20261107T100000
DTEND;TZID=UTC:20261107T104000
DTSTAMP:20260423T103016
CREATED:20251126T102859Z
LAST-MODIFIED:20251126T102859Z
UID:1237-1794045600-1794048000@goldenerdachs.ch
SUMMARY:Krabbelkonzert um 10 Uhr
DESCRIPTION:Ein kurzes Konzert für Eltern mit ihren Kindern ab 0 Jahren\, die bei der Musik krabbeln\, tanzen und spielen dürfen.
URL:https://goldenerdachs.ch/index.php/event/krabbelkonzert-um-10-uhr-5/
LOCATION:Goldener Dachs\, Schulstrasse 1\, Weinfelden\, Thurgau\, 8570\, Schweiz
ORGANIZER;CN="Schweizerische Musikp%C3%A4dagogische Verband Thurgau":MAILTO:zentralsekretariat@smpv.ch
END:VEVENT
END:VCALENDAR